BEGIN:VCALENDAR
VERSION:2.0
PRODID:-//eventon.com NONSGML v1.0//EN
CALSCALE:GREGORIAN
METHOD:PUBLISH
BEGIN:VEVENT
UID:69ecdd2984d73
DTSTAMP:20260425T152633Z
DTSTART:20221203T140000Z
DTEND:20221204T045000Z
LOCATION:
SUMMARY:Cascade Lakes WALKATHON
DESCRIPTION:CLICK HERE TO REGISTER ONLINE OR CLICK HERE FOR REGISTRATION FO
 RM CLICK HERE FOR SPONSOR FORM CLICK HERE FOR LARGE DONATIONS FORM\nhttps:/
 /www.thepapcorps.org/events/walkathon/
URL:https://www.thepapcorps.org/events/walkathon/
END:VEVENT
END:VCALENDAR