BEGIN:VCALENDAR
VERSION:2.0
PRODID:-//eventon.com NONSGML v1.0//EN
CALSCALE:GREGORIAN
METHOD:PUBLISH
BEGIN:VEVENT
UID:69e611dfd14a2
DTSTAMP:20260420T114535Z
DTSTART:20230210T163000Z
DTEND:20230211T045000Z
LOCATION:
SUMMARY:Cascade Lakes MEMBERSHIP LUNCHEON
DESCRIPTION:Click the links below to view/print the table sign-up forms.&nb
 sp;  Women&#8217;s table registration form  Men&#8217;s table registratio
 n form\nhttps://www.thepapcorps.org/events/membership-luncheon/
URL:https://www.thepapcorps.org/events/membership-luncheon/
END:VEVENT
END:VCALENDAR