BEGIN:VCALENDAR
VERSION:2.0
PRODID:-//eventon.com NONSGML v1.0//EN
CALSCALE:GREGORIAN
METHOD:PUBLISH
BEGIN:VEVENT
UID:69e531376616a
DTSTAMP:20260419T194703Z
DTSTART:20230129T003100Z
DTEND:20230129T003100Z
LOCATION:
SUMMARY:Mizner Dancing with the Stars
DESCRIPTION:CLICK HERE to sponsor our event or make a donation.\nhttps://ww
 w.thepapcorps.org/events/mizner-dancing-with-the-stars/
URL:https://www.thepapcorps.org/events/mizner-dancing-with-the-stars/
END:VEVENT
END:VCALENDAR