BEGIN:VCALENDAR
VERSION:2.0
PRODID:-//eventon.com NONSGML v1.0//EN
CALSCALE:GREGORIAN
METHOD:PUBLISH
BEGIN:VEVENT
UID:69ed94361c1fe
DTSTAMP:20260426T042734Z
DTSTART:20221009T163000Z
DTEND:20221010T035000Z
LOCATION:
SUMMARY:Villa Borghese Delray Playhouse
DESCRIPTION:Please CLICK HERE to buy tickets online.\nhttps://www.thepapcor
 ps.org/events/villa-borghese-delray-playhouse/
URL:https://www.thepapcorps.org/events/villa-borghese-delray-playhouse/
END:VEVENT
END:VCALENDAR