BEGIN:VCALENDAR
VERSION:2.0
PRODID:-//eventon.com NONSGML v1.0//EN
CALSCALE:GREGORIAN
METHOD:PUBLISH
BEGIN:VEVENT
UID:69e58c04228a5
DTSTAMP:20260420T021428Z
DTSTART:20230511T140000Z
DTEND:20230511T200000Z
LOCATION:
SUMMARY:Bellaggio Mahj-a-Thon
DESCRIPTION:Click the &#8216;Event Registration&#8217; button to download f
 lyer.\nhttps://www.thepapcorps.org/events/bellaggio-card-party/
URL:https://www.thepapcorps.org/events/bellaggio-card-party/
END:VEVENT
END:VCALENDAR