BEGIN:VCALENDAR
VERSION:2.0
PRODID:-//eventon.com NONSGML v1.0//EN
CALSCALE:GREGORIAN
METHOD:PUBLISH
BEGIN:VEVENT
UID:69e58919c7f55
DTSTAMP:20260420T020201Z
DTSTART:20221114T143000Z
DTEND:20221114T181500Z
LOCATION:
SUMMARY:Bellaggio Canasta Tournament
DESCRIPTION:CLICK HERE to download flyer\nhttps://www.thepapcorps.org/event
 s/bellaggio-canasta-tournament-2/
URL:https://www.thepapcorps.org/events/bellaggio-canasta-tournament-2/
END:VEVENT
END:VCALENDAR