BEGIN:VCALENDAR
VERSION:2.0
PRODID:-//eventon.com NONSGML v1.0//EN
CALSCALE:GREGORIAN
METHOD:PUBLISH
BEGIN:VEVENT
UID:69ec1e933834e
DTSTAMP:20260425T015323Z
DTSTART:20241107
DTEND:20241108
LOCATION:
SUMMARY:Valencia Isles Monthly Bingo
DESCRIPTION:\nhttps://www.thepapcorps.org/events/valencia-isles-monthly-bin
 go/
URL:https://www.thepapcorps.org/events/valencia-isles-monthly-bingo/
END:VEVENT
END:VCALENDAR