BEGIN:VCALENDAR
VERSION:2.0
PRODID:-//eventon.com NONSGML v1.0//EN
CALSCALE:GREGORIAN
METHOD:PUBLISH
BEGIN:VEVENT
UID:69e9c35871b34
DTSTAMP:20260423T065936Z
DTSTART:20270123
DTEND:20270124
LOCATION:
SUMMARY:Mizner Casino Night
DESCRIPTION:\nhttps://www.thepapcorps.org/events/mizner-casino-night/
URL:https://www.thepapcorps.org/events/mizner-casino-night/
END:VEVENT
END:VCALENDAR