BEGIN:VCALENDAR
VERSION:2.0
PRODID:-//eventon.com NONSGML v1.0//EN
CALSCALE:GREGORIAN
METHOD:PUBLISH
BEGIN:VEVENT
UID:69e9f50b50fac
DTSTAMP:20260423T103139Z
DTSTART:20210126T220000Z
DTEND:20210127T000000Z
LOCATION:
SUMMARY:Greater Broward Culinary Virtual Cooking
DESCRIPTION:Greater Broward Culinary Virtual Cooking\nhttps://www.thepapcor
 ps.org/events/01-26-21-greater-broward-culinary-virtual-cooking/
URL:https://www.thepapcorps.org/events/01-26-21-greater-broward-culinary-virtual-cooking/
END:VEVENT
END:VCALENDAR