BEGIN:VCALENDAR
VERSION:2.0
PRODID:-//eventon.com NONSGML v1.0//EN
CALSCALE:GREGORIAN
METHOD:PUBLISH
BEGIN:VEVENT
UID:69ed726c6afcb
DTSTAMP:20260426T020324Z
DTSTART:20210304T230000Z
DTEND:20210305T040000Z
LOCATION:The Breakers
SUMMARY:Palm Beach 2nd Annual Imagination Gala
DESCRIPTION:Palm Beach 2nd Annual Imagination Gala\nhttps://www.thepapcorps
 .org/events/03-04-21-palm-beach-2nd-annual-imagination-gala/
URL:https://www.thepapcorps.org/events/03-04-21-palm-beach-2nd-annual-imagination-gala/
END:VEVENT
END:VCALENDAR