BEGIN:VCALENDAR
VERSION:2.0
PRODID:-//eventon.com NONSGML v1.0//EN
CALSCALE:GREGORIAN
METHOD:PUBLISH
BEGIN:VEVENT
UID:69e6c76f50e84
DTSTAMP:20260421T004015Z
DTSTART:20210213
DTEND:20210214
LOCATION:
SUMMARY:Valencia Lakes Valentines Day Flower
DESCRIPTION:Valencia Lakes Valentines Day Flower\nhttps://www.thepapcorps.o
 rg/events/02-13-21valencia-lakes-valentines-day-flower/
URL:https://www.thepapcorps.org/events/02-13-21valencia-lakes-valentines-day-flower/
END:VEVENT
END:VCALENDAR