BEGIN:VCALENDAR
VERSION:2.0
PRODID:-//eventon.com NONSGML v1.0//EN
CALSCALE:GREGORIAN
METHOD:PUBLISH
BEGIN:VEVENT
UID:69e9310074c8d
DTSTAMP:20260422T203512Z
DTSTART:20220113
DTEND:20220114
LOCATION:
SUMMARY:Boca West's Rubell Collection
DESCRIPTION:Boca West's Rubell Collection\nhttps://www.thepapcorps.org/even
 ts/boca-wests-rubell-collection/
URL:https://www.thepapcorps.org/events/boca-wests-rubell-collection/
END:VEVENT
END:VCALENDAR