BEGIN:VCALENDAR
VERSION:2.0
PRODID:-//eventon.com NONSGML v1.0//EN
CALSCALE:GREGORIAN
METHOD:PUBLISH
BEGIN:VEVENT
UID:69e9f8ab554ab
DTSTAMP:20260423T104707Z
DTSTART:20211003
DTEND:20211004
LOCATION:
SUMMARY:Valencia Pointe's Trina and Joel Schwartz
DESCRIPTION:Valencia Pointe's Trina and Joel Schwartz\nhttps://www.thepapco
 rps.org/events/valencia-pointes-trina-and-joel-schwartz/
URL:https://www.thepapcorps.org/events/valencia-pointes-trina-and-joel-schwartz/
END:VEVENT
END:VCALENDAR