BEGIN:VCALENDAR
VERSION:2.0
PRODID:-//eventon.com NONSGML v1.0//EN
CALSCALE:GREGORIAN
METHOD:PUBLISH
BEGIN:VEVENT
UID:69ea57556595c
DTSTAMP:20260423T173101Z
DTSTART:20220228
DTEND:20220301
LOCATION:
SUMMARY:Boca Woods Fabulous Boutique\,  Luncheon Fashion Show
DESCRIPTION:Boca Woods Fabulous Boutique\,  Luncheon Fashion Show\nhttps://
 www.thepapcorps.org/events/boca-woods-fabulous-boutique-luncheon-fashion-sh
 ow/
URL:https://www.thepapcorps.org/events/boca-woods-fabulous-boutique-luncheon-fashion-show/
END:VEVENT
END:VCALENDAR