BEGIN:VCALENDAR
VERSION:2.0
PRODID:-//eventon.com NONSGML v1.0//EN
CALSCALE:GREGORIAN
METHOD:PUBLISH
BEGIN:VEVENT
UID:69eadabb394b0
DTSTAMP:20260424T025139Z
DTSTART:20220430
DTEND:20220501
LOCATION:
SUMMARY:Polo Club Miami City Ballet Season Tickets
DESCRIPTION:Polo Club Miami City Ballet Season Tickets\nhttps://www.thepapc
 orps.org/events/polo-club-miami-city-ballet-season-tickets/
URL:https://www.thepapcorps.org/events/polo-club-miami-city-ballet-season-tickets/
END:VEVENT
END:VCALENDAR