BEGIN:VCALENDAR
VERSION:2.0
PRODID:-//eventon.com NONSGML v1.0//EN
CALSCALE:GREGORIAN
METHOD:PUBLISH
BEGIN:VEVENT
UID:69e6e75820d67
DTSTAMP:20260421T025624Z
DTSTART:20220227T140000Z
DTEND:20220227T163000Z
LOCATION:Social Club Lobby
SUMMARY:Valencia Shores Community Walk
DESCRIPTION:Click Here to download the Sponsor Letter if you are a register
 ed Walker. Click Here if you&#8217;d like to make an online donation to spo
 nsor a Walker. Click Here if you&#8217;d like to download the Walker Regist
 ration Form.\nhttps://www.thepapcorps.org/events/valencia-shores-community-
 walk-2/
URL:https://www.thepapcorps.org/events/valencia-shores-community-walk-2/
END:VEVENT
END:VCALENDAR