BEGIN:VCALENDAR
VERSION:2.0
PRODID:-//eventon.com NONSGML v1.0//EN
CALSCALE:GREGORIAN
METHOD:PUBLISH
BEGIN:VEVENT
UID:69eaed8c9a129
DTSTAMP:20260424T041156Z
DTSTART:20220315
DTEND:20220316
LOCATION:
SUMMARY:Valencia Lakes Pap Raffle
DESCRIPTION:CLICK HERE to download the flyer with more info\,   or CLICK H
 ERE to purchase tickets online\nhttps://www.thepapcorps.org/events/valencia
 -lakes-pap-raffle/
URL:https://www.thepapcorps.org/events/valencia-lakes-pap-raffle/
END:VEVENT
END:VCALENDAR