BEGIN:VCALENDAR
VERSION:2.0
PRODID:-//eventon.com NONSGML v1.0//EN
CALSCALE:GREGORIAN
METHOD:PUBLISH
BEGIN:VEVENT
UID:69e6d8eb96f7b
DTSTAMP:20260421T015451Z
DTSTART:20230730T230000Z
DTEND:20230731T035000Z
LOCATION:
SUMMARY:Huntington Pointe Annual Ice Cream Social
DESCRIPTION:Huntington Pointe Annual Ice Cream Social\nhttps://www.thepapco
 rps.org/events/huntington-pointe-annual-ice-cream-social/
URL:https://www.thepapcorps.org/events/huntington-pointe-annual-ice-cream-social/
END:VEVENT
END:VCALENDAR