BEGIN:VCALENDAR
VERSION:2.0
PRODID:-//eventon.com NONSGML v1.0//EN
CALSCALE:GREGORIAN
METHOD:PUBLISH
BEGIN:VEVENT
UID:69e66c267adda
DTSTAMP:20260420T181046Z
DTSTART:20230319
DTEND:20230320
LOCATION:
SUMMARY:Valencia Palms Tennis & Pickleball Event
DESCRIPTION:Valencia Palms Tennis & Pickleball Event\nhttps://www.thepapcor
 ps.org/events/valencia-palms-tennis-pickleball-event/
URL:https://www.thepapcorps.org/events/valencia-palms-tennis-pickleball-event/
END:VEVENT
END:VCALENDAR