BEGIN:VCALENDAR
VERSION:2.0
PRODID:-//eventon.com NONSGML v1.0//EN
CALSCALE:GREGORIAN
METHOD:PUBLISH
BEGIN:VEVENT
UID:69e675ec60cbb
DTSTAMP:20260420T185228Z
DTSTART:20221227T140000Z
DTEND:20221227T160000Z
LOCATION:
SUMMARY:Valencia Palms Walk A Thon
DESCRIPTION:Two ways to register: • Drop off the completed registration f
 orm and check made payable to PAP Corps.Place envelope marked “Walk-A-Tho
 n” in the PAP folder in clubhouse. Click Here to download the form. OR 
  Online by clicking on the ‘Event Registration’ button below. Register
  until the day of the[..]\nhttps://www.thepapcorps.org/events/valencia-palm
 s-walk-a-thon/
URL:https://www.thepapcorps.org/events/valencia-palms-walk-a-thon/
END:VEVENT
END:VCALENDAR