BEGIN:VCALENDAR
VERSION:2.0
PRODID:-//eventon.com NONSGML v1.0//EN
CALSCALE:GREGORIAN
METHOD:PUBLISH
BEGIN:VEVENT
UID:69eadcc5481b2
DTSTAMP:20260424T030021Z
DTSTART:20221019
DTEND:20221020
LOCATION:
SUMMARY:Valencia Falls Pickle Ball Tournament
DESCRIPTION:Valencia Falls Pickle Ball Tournament\nhttps://www.thepapcorps.
 org/events/valencia-falls-pickle-ball-tournament/
URL:https://www.thepapcorps.org/events/valencia-falls-pickle-ball-tournament/
END:VEVENT
END:VCALENDAR