BEGIN:VCALENDAR
VERSION:2.0
PRODID:-//eventon.com NONSGML v1.0//EN
CALSCALE:GREGORIAN
METHOD:PUBLISH
BEGIN:VEVENT
UID:69e79c679771e
DTSTAMP:20260421T154855Z
DTSTART:20230514
DTEND:20230515
LOCATION:
SUMMARY:Valencia Falls Mother's Day Roses
DESCRIPTION:Valencia Falls Mother's Day Roses\nhttps://www.thepapcorps.org/
 events/valencia-falls-mothers-day-flowers/
URL:https://www.thepapcorps.org/events/valencia-falls-mothers-day-flowers/
END:VEVENT
END:VCALENDAR